BEGIN:VCALENDAR
VERSION:2.0
PRODID:-//ChamberMaster//Event Calendar 2.0//EN
METHOD:PUBLISH
X-PUBLISHED-TTL:P3D
REFRESH-INTERVAL:P3D
CALSCALE:GREGORIAN
BEGIN:VEVENT
DTSTART:20090117T144500Z
DTEND:20090117T170000Z
X-MICROSOFT-CDO-ALLDAYEVENT:FALSE
SUMMARY:Beginner Spanish Classes
DESCRIPTION:Beginner Spanish classes meet every Saturday morning\n(4 levels also meet during the week)
X-ALT-DESC;FMTTYPE=text/html:Beginner Spanish classes meet every Saturday morning\n(4 levels also meet during the week)
LOCATION:227 9th Street\, Miami Beach\, FL 33139
UID:e.166.2569
SEQUENCE:3
DTSTAMP:20260421T120009Z
URL:http://miamibeachchamber.chambermaster.com/events/details/beginner-spanish-classes-01-17-2009-2569
END:VEVENT

END:VCALENDAR
